BEGIN:VCALENDAR
VERSION:2.0
PRODID:spatie/icalendar-generator
DESCRIPTION:Events from All Hallows Catholic High School
X-WR-CALDESC:Events from All Hallows Catholic High School
REFRESH-INTERVAL;VALUE=DURATION:PT1440M
X-PUBLISHED-TTL:PT1440M
BEGIN:VTIMEZONE
TZID:Europe/London
BEGIN:STANDARD
DTSTART:20241027T020000Z
TZOFFSETFROM:+0100
TZOFFSETTO:+0000
END:STANDARD
BEGIN:DAYLIGHT
DTSTART:20250330T010000Z
TZOFFSETFROM:+0000
TZOFFSETTO:+0100
END:DAYLIGHT
BEGIN:STANDARD
DTSTART:20251026T020000Z
TZOFFSETFROM:+0100
TZOFFSETTO:+0000
END:STANDARD
END:VTIMEZONE
BEGIN:VTIMEZONE
TZID:UTC
BEGIN:STANDARD
DTSTART:20250724T081337Z
TZOFFSETFROM:+0000
TZOFFSETTO:+0000
END:STANDARD
END:VTIMEZONE
BEGIN:VEVENT
UID:32-31
DTSTAMP:20260420T081337Z
SUMMARY:Year 7 Beeston Castle Visit
LOCATION:All Hallows Catholic High School Crabtree Avenue Penwortham Presto
 n Lancashire PR1 0LN
ORGANIZER;CN=j.mackay:MAILTO:jma@allhallows.lancs.sch.uk
DTSTART;TZID=Europe/London:20250609T083000
DTEND;TZID=Europe/London:20250609T093000
X-ALT-DESC;FMTTYPE=TEXT/HTML:
CATEGORIES:General
URL;VALUE=URI:https://www.allhallows.lancs.sch.uk/mc-events/year-7-beeston-
 castle-visit/
METHOD:PUBLISH
END:VEVENT
END:VCALENDAR