BEGIN:VCALENDAR
VERSION:2.0
PRODID:spatie/icalendar-generator
DESCRIPTION:Events from All Hallows Catholic High School
X-WR-CALDESC:Events from All Hallows Catholic High School
REFRESH-INTERVAL;VALUE=DURATION:PT1440M
X-PUBLISHED-TTL:PT1440M
BEGIN:VTIMEZONE
TZID:Europe/London
BEGIN:STANDARD
DTSTART:20241027T020000Z
TZOFFSETFROM:+0100
TZOFFSETTO:+0000
END:STANDARD
BEGIN:DAYLIGHT
DTSTART:20250330T010000Z
TZOFFSETFROM:+0000
TZOFFSETTO:+0100
END:DAYLIGHT
BEGIN:STANDARD
DTSTART:20251026T020000Z
TZOFFSETFROM:+0100
TZOFFSETTO:+0000
END:STANDARD
END:VTIMEZONE
BEGIN:VTIMEZONE
TZID:UTC
BEGIN:STANDARD
DTSTART:20250724T084453Z
TZOFFSETFROM:+0000
TZOFFSETTO:+0000
END:STANDARD
END:VTIMEZONE
BEGIN:VEVENT
UID:34-33
DTSTAMP:20260420T084453Z
SUMMARY:Year 5 Taster Day for St Teresa’s
LOCATION:All Hallows Catholic High School Crabtree Avenue Penwortham Presto
 n Lancashire PR1 0LN
ORGANIZER;CN=j.mackay:MAILTO:jma@allhallows.lancs.sch.uk
DTSTART;TZID=Europe/London:20250616T083000
DTEND;TZID=Europe/London:20250616T093000
X-ALT-DESC;FMTTYPE=TEXT/HTML:
CATEGORIES:General
URL;VALUE=URI:https://www.allhallows.lancs.sch.uk/mc-events/year-5-taster-d
 ay-for-st-teresas/
METHOD:PUBLISH
END:VEVENT
END:VCALENDAR